BEGIN:VCALENDAR
VERSION:2.0
PRODID:-//eventon.com NONSGML v1.0//EN
CALSCALE:GREGORIAN
METHOD:PUBLISH
BEGIN:VEVENT
UID:69e5fa5d83d43
DTSTAMP:20260420T100517Z
DTSTART:20260327T140000Z
DTEND:20260327T143000Z
LOCATION:
SUMMARY:CHAMP1 NEWS #739
DESCRIPTION:Thema u.a.: Die Highlights des 1. und 2. freien Trainings beim 
 Großen Preis von Japan. Wir berichten Formel 1. Jeden Tag. Ohne Umwege. De
 utschlands erfolgreichste tägliche Formel 1-News-Sendung im Videoformat Di
 e wichtigsten Entwicklungen aus der Welt der Formel 1 – auf und neben der
  Strecke. Wir analysieren Renngeschehen\,  Teamstrategien und[..]\nhttps://
 champ1.news/events/champ1-news-739/
URL:https://champ1.news/events/champ1-news-739/
END:VEVENT
END:VCALENDAR